BEGIN:VCALENDAR
VERSION:2.0
PRODID:-//FoxFire Foundation - ECPv6.15.20//NONSGML v1.0//EN
CALSCALE:GREGORIAN
METHOD:PUBLISH
X-ORIGINAL-URL:https://www.foxfire-foundation.org
X-WR-CALDESC:Events for FoxFire Foundation
REFRESH-INTERVAL;VALUE=DURATION:PT1H
X-Robots-Tag:noindex
X-PUBLISHED-TTL:PT1H
X-WR-TIMEZONE:Europe/Berlin
BEGIN:VTIMEZONE
TZID:Europe/Berlin
BEGIN:DAYLIGHT
TZOFFSETFROM:+0100
TZOFFSETTO:+0200
TZNAME:CEST
DTSTART:20190331T010000
END:DAYLIGHT
BEGIN:STANDARD
TZOFFSETFROM:+0200
TZOFFSETTO:+0100
TZNAME:CET
DTSTART:20191027T010000
END:STANDARD
BEGIN:DAYLIGHT
TZOFFSETFROM:+0100
TZOFFSETTO:+0200
TZNAME:CEST
DTSTART:20200329T010000
END:DAYLIGHT
BEGIN:STANDARD
TZOFFSETFROM:+0200
TZOFFSETTO:+0100
TZNAME:CET
DTSTART:20201025T010000
END:STANDARD
BEGIN:DAYLIGHT
TZOFFSETFROM:+0100
TZOFFSETTO:+0200
TZNAME:CEST
DTSTART:20210328T010000
END:DAYLIGHT
BEGIN:STANDARD
TZOFFSETFROM:+0200
TZOFFSETTO:+0100
TZNAME:CET
DTSTART:20211031T010000
END:STANDARD
END:VTIMEZONE
BEGIN:VEVENT
DTSTART;VALUE=DATE:20201029
DTEND;VALUE=DATE:20201102
DTSTAMP:20260420T115136
CREATED:20200112T182621Z
LAST-MODIFIED:20240116T164131Z
UID:2741-1603929600-1604275199@www.foxfire-foundation.org
SUMMARY:15th Annual CSP® Retreat
DESCRIPTION:The place for our profession and professional work as well as time to refill and reconnect as colleagues. \nShare on:share share share share share email 
URL:https://www.foxfire-foundation.org/event/15th-annual-csp-retreat/
LOCATION:Lonvitz\, Lonvitz\, Putbus\, 18581\, Germany
CATEGORIES:Professional
END:VEVENT
BEGIN:VEVENT
DTSTART;TZID=Europe/Berlin:20201107T100000
DTEND;TZID=Europe/Berlin:20201108T170000
DTSTAMP:20260420T115136
CREATED:20200930T183611Z
LAST-MODIFIED:20200930T183611Z
UID:2892-1604743200-1604854800@www.foxfire-foundation.org
SUMMARY:Community Craft Weekend #2
DESCRIPTION:Share on:share share share share share email 
URL:https://www.foxfire-foundation.org/event/community-craft-weekend-2/
CATEGORIES:Community
END:VEVENT
BEGIN:VEVENT
DTSTART;TZID=Europe/Berlin:20201113T190000
DTEND;TZID=Europe/Berlin:20201113T220000
DTSTAMP:20260420T115136
CREATED:20200112T185654Z
LAST-MODIFIED:20200112T185654Z
UID:2798-1605294000-1605304800@www.foxfire-foundation.org
SUMMARY:Men’s Working Group Information Evening for 2021
DESCRIPTION:Share on:share share share share share email 
URL:https://www.foxfire-foundation.org/event/mens-working-group-information-evening-for-2021/
LOCATION:Praxis / FoxFire Institute\, Flemmingstraße 8\, Berlin\, 12163\, Germany
CATEGORIES:Men’s Working Group,Professional
END:VEVENT
BEGIN:VEVENT
DTSTART;VALUE=DATE:20201114
DTEND;VALUE=DATE:20201116
DTSTAMP:20260420T115136
CREATED:20200112T183652Z
LAST-MODIFIED:20200112T183652Z
UID:2764-1605312000-1605484799@www.foxfire-foundation.org
SUMMARY:Men’s Working Group
DESCRIPTION:One-year commitment required. \nShare on:share share share share share email 
URL:https://www.foxfire-foundation.org/event/mens-working-group-21/
LOCATION:Praxis / FoxFire Institute\, Flemmingstraße 8\, Berlin\, 12163\, Germany
CATEGORIES:Men’s Working Group,Professional
END:VEVENT
BEGIN:VEVENT
DTSTART;VALUE=DATE:20201120
DTEND;VALUE=DATE:20201123
DTSTAMP:20260420T115136
CREATED:20191018T173125Z
LAST-MODIFIED:20191018T185255Z
UID:2588-1605830400-1606089599@www.foxfire-foundation.org
SUMMARY:Foundation Year 2020
DESCRIPTION:This is a foundation-building course that focuses on the tools and skills that are the foundation of any spiritual practice. It is a year for your own experience\, building and maintaining your practices\, clarification of your way\, building stability and maintaining healthy borders. \nThe course can be taken as a stand-alone course for learning the basics of spiritual practice or as a foundation course for any further spiritual or shamanic training. \nClass size maximum 6 participants\n1550\,- or 131\,- for 12 rates \nIncludes class supplies\, tea pauses\, 4 individual counseling/feedback hours and certificate. \nShare on:share share share share share email 
URL:https://www.foxfire-foundation.org/event/foundation-year-2020-5/
LOCATION:Praxis / FoxFire Institute\, Flemmingstraße 8\, Berlin\, 12163\, Germany
CATEGORIES:Foundation Year,School
END:VEVENT
BEGIN:VEVENT
DTSTART;VALUE=DATE:20201127
DTEND;VALUE=DATE:20201130
DTSTAMP:20260420T115136
CREATED:20200112T184300Z
LAST-MODIFIED:20220105T100554Z
UID:2782-1606435200-1606694399@www.foxfire-foundation.org
SUMMARY:Certified Shamanic Practitioner® Program
DESCRIPTION:Share on:share share share share share email 
URL:https://www.foxfire-foundation.org/event/certified-shamanic-practitioner-program-5/
LOCATION:Praxis / FoxFire Institute\, Flemmingstraße 8\, Berlin\, 12163\, Germany
CATEGORIES:Certified Shamanic Practitioner®,CSP 2020 class,School
END:VEVENT
END:VCALENDAR