BEGIN:VCALENDAR
VERSION:2.0
PRODID:-//FoxFire Foundation - ECPv6.15.20//NONSGML v1.0//EN
CALSCALE:GREGORIAN
METHOD:PUBLISH
X-WR-CALNAME:FoxFire Foundation
X-ORIGINAL-URL:https://www.foxfire-foundation.org
X-WR-CALDESC:Events for FoxFire Foundation
REFRESH-INTERVAL;VALUE=DURATION:PT1H
X-Robots-Tag:noindex
X-PUBLISHED-TTL:PT1H
X-WR-TIMEZONE:Europe/Berlin
BEGIN:VTIMEZONE
TZID:Europe/Berlin
BEGIN:DAYLIGHT
TZOFFSETFROM:+0100
TZOFFSETTO:+0200
TZNAME:CEST
DTSTART:20190331T010000
END:DAYLIGHT
BEGIN:STANDARD
TZOFFSETFROM:+0200
TZOFFSETTO:+0100
TZNAME:CET
DTSTART:20191027T010000
END:STANDARD
BEGIN:DAYLIGHT
TZOFFSETFROM:+0100
TZOFFSETTO:+0200
TZNAME:CEST
DTSTART:20200329T010000
END:DAYLIGHT
BEGIN:STANDARD
TZOFFSETFROM:+0200
TZOFFSETTO:+0100
TZNAME:CET
DTSTART:20201025T010000
END:STANDARD
BEGIN:DAYLIGHT
TZOFFSETFROM:+0100
TZOFFSETTO:+0200
TZNAME:CEST
DTSTART:20210328T010000
END:DAYLIGHT
BEGIN:STANDARD
TZOFFSETFROM:+0200
TZOFFSETTO:+0100
TZNAME:CET
DTSTART:20211031T010000
END:STANDARD
END:VTIMEZONE
BEGIN:VEVENT
DTSTART;VALUE=DATE:20200924
DTEND;VALUE=DATE:20200928
DTSTAMP:20260420T143523
CREATED:20191018T173046Z
LAST-MODIFIED:20191018T185300Z
UID:2586-1600905600-1601251199@www.foxfire-foundation.org
SUMMARY:Foundation Year 2020
DESCRIPTION:This is a foundation-building course that focuses on the tools and skills that are the foundation of any spiritual practice. It is a year for your own experience\, building and maintaining your practices\, clarification of your way\, building stability and maintaining healthy borders. \nThe course can be taken as a stand-alone course for learning the basics of spiritual practice or as a foundation course for any further spiritual or shamanic training. \nClass size maximum 6 participants\n1550\,- or 131\,- for 12 rates \nIncludes class supplies\, tea pauses\, 4 individual counseling/feedback hours and certificate.
URL:https://www.foxfire-foundation.org/event/foundation-year-2020-4/
LOCATION:Praxis / FoxFire Institute\, Flemmingstraße 8\, Berlin\, 12163\, Germany
CATEGORIES:Foundation Year,School
END:VEVENT
END:VCALENDAR