BEGIN:VCALENDAR
VERSION:2.0
PRODID:-//FoxFire Foundation - ECPv6.15.20//NONSGML v1.0//EN
CALSCALE:GREGORIAN
METHOD:PUBLISH
X-ORIGINAL-URL:https://www.foxfire-foundation.org
X-WR-CALDESC:Events for FoxFire Foundation
REFRESH-INTERVAL;VALUE=DURATION:PT1H
X-Robots-Tag:noindex
X-PUBLISHED-TTL:PT1H
X-WR-TIMEZONE:Europe/Berlin
BEGIN:VTIMEZONE
TZID:Europe/Berlin
BEGIN:DAYLIGHT
TZOFFSETFROM:+0100
TZOFFSETTO:+0200
TZNAME:CEST
DTSTART:20170326T010000
END:DAYLIGHT
BEGIN:STANDARD
TZOFFSETFROM:+0200
TZOFFSETTO:+0100
TZNAME:CET
DTSTART:20171029T010000
END:STANDARD
BEGIN:DAYLIGHT
TZOFFSETFROM:+0100
TZOFFSETTO:+0200
TZNAME:CEST
DTSTART:20180325T010000
END:DAYLIGHT
BEGIN:STANDARD
TZOFFSETFROM:+0200
TZOFFSETTO:+0100
TZNAME:CET
DTSTART:20181028T010000
END:STANDARD
BEGIN:DAYLIGHT
TZOFFSETFROM:+0100
TZOFFSETTO:+0200
TZNAME:CEST
DTSTART:20190331T010000
END:DAYLIGHT
BEGIN:STANDARD
TZOFFSETFROM:+0200
TZOFFSETTO:+0100
TZNAME:CET
DTSTART:20191027T010000
END:STANDARD
BEGIN:DAYLIGHT
TZOFFSETFROM:+0100
TZOFFSETTO:+0200
TZNAME:CEST
DTSTART:20200329T010000
END:DAYLIGHT
BEGIN:STANDARD
TZOFFSETFROM:+0200
TZOFFSETTO:+0100
TZNAME:CET
DTSTART:20201025T010000
END:STANDARD
BEGIN:DAYLIGHT
TZOFFSETFROM:+0100
TZOFFSETTO:+0200
TZNAME:CEST
DTSTART:20210328T010000
END:DAYLIGHT
BEGIN:STANDARD
TZOFFSETFROM:+0200
TZOFFSETTO:+0100
TZNAME:CET
DTSTART:20211031T010000
END:STANDARD
END:VTIMEZONE
BEGIN:VEVENT
DTSTART;VALUE=DATE:20201114
DTEND;VALUE=DATE:20201116
DTSTAMP:20260421T115603
CREATED:20200112T183652Z
LAST-MODIFIED:20200112T183652Z
UID:2764-1605312000-1605484799@www.foxfire-foundation.org
SUMMARY:Men’s Working Group
DESCRIPTION:One-year commitment required. \nShare on:share share share share share email 
URL:https://www.foxfire-foundation.org/event/mens-working-group-21/
LOCATION:Praxis / FoxFire Institute\, Flemmingstraße 8\, Berlin\, 12163\, Germany
CATEGORIES:Men’s Working Group,Professional
END:VEVENT
BEGIN:VEVENT
DTSTART;TZID=Europe/Berlin:20201113T190000
DTEND;TZID=Europe/Berlin:20201113T220000
DTSTAMP:20260421T115603
CREATED:20200112T185654Z
LAST-MODIFIED:20200112T185654Z
UID:2798-1605294000-1605304800@www.foxfire-foundation.org
SUMMARY:Men’s Working Group Information Evening for 2021
DESCRIPTION:Share on:share share share share share email 
URL:https://www.foxfire-foundation.org/event/mens-working-group-information-evening-for-2021/
LOCATION:Praxis / FoxFire Institute\, Flemmingstraße 8\, Berlin\, 12163\, Germany
CATEGORIES:Men’s Working Group,Professional
END:VEVENT
BEGIN:VEVENT
DTSTART;VALUE=DATE:20200820
DTEND;VALUE=DATE:20200824
DTSTAMP:20260421T115603
CREATED:20200112T183602Z
LAST-MODIFIED:20200112T183602Z
UID:2762-1597881600-1598227199@www.foxfire-foundation.org
SUMMARY:Men’s Working Group
DESCRIPTION:One-year commitment required. \nShare on:share share share share share email 
URL:https://www.foxfire-foundation.org/event/mens-working-group-20/
LOCATION:Lonvitz\, Lonvitz\, Putbus\, 18581\, Germany
CATEGORIES:Men’s Working Group,Professional
END:VEVENT
BEGIN:VEVENT
DTSTART;VALUE=DATE:20200508
DTEND;VALUE=DATE:20200511
DTSTAMP:20260421T115603
CREATED:20200112T183525Z
LAST-MODIFIED:20200506T070051Z
UID:2760-1588896000-1589155199@www.foxfire-foundation.org
SUMMARY:Men’s Working Group
DESCRIPTION:One-year commitment required. \nShare on:share share share share share email 
URL:https://www.foxfire-foundation.org/event/mens-working-group-19/
LOCATION:Praxis / FoxFire Institute\, Flemmingstraße 8\, Berlin\, 12163\, Germany
CATEGORIES:Men’s Working Group,Professional
END:VEVENT
BEGIN:VEVENT
DTSTART;VALUE=DATE:20200328
DTEND;VALUE=DATE:20200330
DTSTAMP:20260421T115603
CREATED:20200209T161920Z
LAST-MODIFIED:20200209T161920Z
UID:2809-1585353600-1585526399@www.foxfire-foundation.org
SUMMARY:Men’s Working Group
DESCRIPTION:One-year commitment required. \nShare on:share share share share share email 
URL:https://www.foxfire-foundation.org/event/mens-working-group-22/
LOCATION:Praxis / FoxFire Institute\, Flemmingstraße 8\, Berlin\, 12163\, Germany
CATEGORIES:Men’s Working Group,Professional
END:VEVENT
BEGIN:VEVENT
DTSTART;VALUE=DATE:20200208
DTEND;VALUE=DATE:20200210
DTSTAMP:20260421T115603
CREATED:20200112T183448Z
LAST-MODIFIED:20200112T183448Z
UID:2758-1581120000-1581292799@www.foxfire-foundation.org
SUMMARY:Men’s Working Group
DESCRIPTION:One-year commitment required. \nShare on:share share share share share email 
URL:https://www.foxfire-foundation.org/event/mens-working-group-18/
LOCATION:Praxis / FoxFire Institute\, Flemmingstraße 8\, Berlin\, 12163\, Germany
CATEGORIES:Men’s Working Group,Professional
END:VEVENT
BEGIN:VEVENT
DTSTART;VALUE=DATE:20191109
DTEND;VALUE=DATE:20191111
DTSTAMP:20260421T115603
CREATED:20190115T144451Z
LAST-MODIFIED:20190115T144451Z
UID:2391-1573257600-1573430399@www.foxfire-foundation.org
SUMMARY:Men’s Working Group
DESCRIPTION:One-year commitment required. \nShare on:share share share share share email 
URL:https://www.foxfire-foundation.org/event/mens-working-group-17/
LOCATION:Praxis / FoxFire Institute\, Flemmingstraße 8\, Berlin\, 12163\, Germany
CATEGORIES:Men’s Working Group,Professional
END:VEVENT
BEGIN:VEVENT
DTSTART;VALUE=DATE:20190822
DTEND;VALUE=DATE:20190826
DTSTAMP:20260421T115603
CREATED:20190115T144416Z
LAST-MODIFIED:20190115T144416Z
UID:2389-1566432000-1566777599@www.foxfire-foundation.org
SUMMARY:Men’s Working Group
DESCRIPTION:One-year commitment required. \nShare on:share share share share share email 
URL:https://www.foxfire-foundation.org/event/mens-working-group-16/
LOCATION:Lonvitz\, Lonvitz\, Putbus\, 18581\, Germany
CATEGORIES:Men’s Working Group,Professional
END:VEVENT
BEGIN:VEVENT
DTSTART;VALUE=DATE:20190425
DTEND;VALUE=DATE:20190429
DTSTAMP:20260421T115603
CREATED:20190115T144337Z
LAST-MODIFIED:20190304T104905Z
UID:2387-1556150400-1556495999@www.foxfire-foundation.org
SUMMARY:Men’s Working Group
DESCRIPTION:One-year commitment required. \nShare on:share share share share share email 
URL:https://www.foxfire-foundation.org/event/mens-working-group-15/
LOCATION:Lonvitz\, Lonvitz\, Putbus\, 18581\, Germany
CATEGORIES:Men’s Working Group,Professional
END:VEVENT
BEGIN:VEVENT
DTSTART;VALUE=DATE:20190302
DTEND;VALUE=DATE:20190304
DTSTAMP:20260421T115603
CREATED:20190115T144307Z
LAST-MODIFIED:20190115T144307Z
UID:2385-1551484800-1551657599@www.foxfire-foundation.org
SUMMARY:Men’s Working Group
DESCRIPTION:One-year commitment required. \nShare on:share share share share share email 
URL:https://www.foxfire-foundation.org/event/mens-working-group-14/
LOCATION:Praxis / FoxFire Institute\, Flemmingstraße 8\, Berlin\, 12163\, Germany
CATEGORIES:Men’s Working Group,Professional
END:VEVENT
BEGIN:VEVENT
DTSTART;VALUE=DATE:20181124
DTEND;VALUE=DATE:20181126
DTSTAMP:20260421T115603
CREATED:20171228T133349Z
LAST-MODIFIED:20180128T170843Z
UID:2064-1543017600-1543190399@www.foxfire-foundation.org
SUMMARY:Men’s Working Group
DESCRIPTION:One-year commitment required. Next applications open on 1 January 2019. \nShare on:share share share share share email 
URL:https://www.foxfire-foundation.org/event/mens-working-group-13/
LOCATION:Praxis / FoxFire Institute\, Flemmingstraße 8\, Berlin\, 12163\, Germany
CATEGORIES:Men’s Working Group,Professional
END:VEVENT
BEGIN:VEVENT
DTSTART;VALUE=DATE:20180816
DTEND;VALUE=DATE:20180820
DTSTAMP:20260421T115603
CREATED:20171228T133321Z
LAST-MODIFIED:20180128T170843Z
UID:2062-1534377600-1534723199@www.foxfire-foundation.org
SUMMARY:Men’s Working Group
DESCRIPTION:One-year commitment required. Next applications open on 1 January 2019. \nShare on:share share share share share email 
URL:https://www.foxfire-foundation.org/event/mens-working-group-12/
LOCATION:Lonvitz\, Lonvitz\, Putbus\, 18581\, Germany
CATEGORIES:Men’s Working Group,Professional
END:VEVENT
BEGIN:VEVENT
DTSTART;VALUE=DATE:20180526
DTEND;VALUE=DATE:20180528
DTSTAMP:20260421T115603
CREATED:20171228T133249Z
LAST-MODIFIED:20180128T170843Z
UID:2060-1527292800-1527465599@www.foxfire-foundation.org
SUMMARY:Men’s Working Group
DESCRIPTION:One-year commitment required. Next applications open on 1 January 2019. \nShare on:share share share share share email 
URL:https://www.foxfire-foundation.org/event/mens-working-group-11/
LOCATION:Praxis / FoxFire Institute\, Flemmingstraße 8\, Berlin\, 12163\, Germany
CATEGORIES:Men’s Working Group,Professional
END:VEVENT
BEGIN:VEVENT
DTSTART;VALUE=DATE:20180323
DTEND;VALUE=DATE:20180326
DTSTAMP:20260421T115603
CREATED:20171228T133155Z
LAST-MODIFIED:20180128T170843Z
UID:2058-1521763200-1522022399@www.foxfire-foundation.org
SUMMARY:Men’s Working Group
DESCRIPTION:One-year commitment required. Next applications open on 1 January 2019. \nShare on:share share share share share email 
URL:https://www.foxfire-foundation.org/event/mens-working-group-10/
LOCATION:Lonvitz\, Lonvitz\, Putbus\, 18581\, Germany
CATEGORIES:Men’s Working Group,Professional
END:VEVENT
END:VCALENDAR