BEGIN:VCALENDAR
VERSION:2.0
PRODID:-//FoxFire Foundation - ECPv6.15.20//NONSGML v1.0//EN
CALSCALE:GREGORIAN
METHOD:PUBLISH
X-WR-CALNAME:FoxFire Foundation
X-ORIGINAL-URL:https://www.foxfire-foundation.org
X-WR-CALDESC:Events for FoxFire Foundation
REFRESH-INTERVAL;VALUE=DURATION:PT1H
X-Robots-Tag:noindex
X-PUBLISHED-TTL:PT1H
X-WR-TIMEZONE:Europe/Berlin
BEGIN:VTIMEZONE
TZID:Europe/Berlin
BEGIN:DAYLIGHT
TZOFFSETFROM:+0100
TZOFFSETTO:+0200
TZNAME:CEST
DTSTART:20220327T010000
END:DAYLIGHT
BEGIN:STANDARD
TZOFFSETFROM:+0200
TZOFFSETTO:+0100
TZNAME:CET
DTSTART:20221030T010000
END:STANDARD
BEGIN:DAYLIGHT
TZOFFSETFROM:+0100
TZOFFSETTO:+0200
TZNAME:CEST
DTSTART:20230326T010000
END:DAYLIGHT
BEGIN:STANDARD
TZOFFSETFROM:+0200
TZOFFSETTO:+0100
TZNAME:CET
DTSTART:20231029T010000
END:STANDARD
BEGIN:DAYLIGHT
TZOFFSETFROM:+0100
TZOFFSETTO:+0200
TZNAME:CEST
DTSTART:20240331T010000
END:DAYLIGHT
BEGIN:STANDARD
TZOFFSETFROM:+0200
TZOFFSETTO:+0100
TZNAME:CET
DTSTART:20241027T010000
END:STANDARD
END:VTIMEZONE
BEGIN:VEVENT
DTSTART;TZID=Europe/Berlin:20230430T100000
DTEND;TZID=Europe/Berlin:20230430T160000
DTSTAMP:20260419T194800
CREATED:20230114T140454Z
LAST-MODIFIED:20230114T140454Z
UID:3511-1682848800-1682870400@www.foxfire-foundation.org
SUMMARY:Special Hands-on Day: Body Imprint Memory Release
DESCRIPTION:Fee: 50\,- \nPlease bring your lunch
URL:https://www.foxfire-foundation.org/event/special-hands-on-day-body-imprint-memory-release/
LOCATION:Praxis / FoxFire Institute\, Flemmingstraße 8\, Berlin\, 12163\, Germany
CATEGORIES:Professional
END:VEVENT
END:VCALENDAR