BEGIN:VCALENDAR
VERSION:2.0
PRODID:-//FoxFire Foundation - ECPv6.15.20//NONSGML v1.0//EN
CALSCALE:GREGORIAN
METHOD:PUBLISH
X-WR-CALNAME:FoxFire Foundation
X-ORIGINAL-URL:https://www.foxfire-foundation.org
X-WR-CALDESC:Events for FoxFire Foundation
REFRESH-INTERVAL;VALUE=DURATION:PT1H
X-Robots-Tag:noindex
X-PUBLISHED-TTL:PT1H
X-WR-TIMEZONE:Europe/Berlin
BEGIN:VTIMEZONE
TZID:Europe/Berlin
BEGIN:DAYLIGHT
TZOFFSETFROM:+0100
TZOFFSETTO:+0200
TZNAME:CEST
DTSTART:20210328T010000
END:DAYLIGHT
BEGIN:STANDARD
TZOFFSETFROM:+0200
TZOFFSETTO:+0100
TZNAME:CET
DTSTART:20211031T010000
END:STANDARD
BEGIN:DAYLIGHT
TZOFFSETFROM:+0100
TZOFFSETTO:+0200
TZNAME:CEST
DTSTART:20220327T010000
END:DAYLIGHT
BEGIN:STANDARD
TZOFFSETFROM:+0200
TZOFFSETTO:+0100
TZNAME:CET
DTSTART:20221030T010000
END:STANDARD
BEGIN:DAYLIGHT
TZOFFSETFROM:+0100
TZOFFSETTO:+0200
TZNAME:CEST
DTSTART:20230326T010000
END:DAYLIGHT
BEGIN:STANDARD
TZOFFSETFROM:+0200
TZOFFSETTO:+0100
TZNAME:CET
DTSTART:20231029T010000
END:STANDARD
END:VTIMEZONE
BEGIN:VEVENT
DTSTART;TZID=Europe/Berlin:20221115T190000
DTEND;TZID=Europe/Berlin:20221115T220000
DTSTAMP:20260425T020451
CREATED:20220105T095123Z
LAST-MODIFIED:20230721T073425Z
UID:3295-1668538800-1668549600@www.foxfire-foundation.org
SUMMARY:Heart Working Group
DESCRIPTION:More dates in 2023\nSign up deadline: 01 September
URL:https://www.foxfire-foundation.org/event/heart-working-group-2/
LOCATION:Praxis / FoxFire Institute\, Flemmingstraße 8\, Berlin\, 12163\, Germany
CATEGORIES:Community,Gurdjieff’s Three-Center Working Groups
END:VEVENT
END:VCALENDAR