BEGIN:VCALENDAR
VERSION:2.0
PRODID:-//FoxFire Foundation - ECPv6.15.20//NONSGML v1.0//EN
CALSCALE:GREGORIAN
METHOD:PUBLISH
X-WR-CALNAME:FoxFire Foundation
X-ORIGINAL-URL:https://www.foxfire-foundation.org
X-WR-CALDESC:Events for FoxFire Foundation
REFRESH-INTERVAL;VALUE=DURATION:PT1H
X-Robots-Tag:noindex
X-PUBLISHED-TTL:PT1H
X-WR-TIMEZONE:Europe/Berlin
BEGIN:VTIMEZONE
TZID:Europe/Berlin
BEGIN:DAYLIGHT
TZOFFSETFROM:+0100
TZOFFSETTO:+0200
TZNAME:CEST
DTSTART:20220327T010000
END:DAYLIGHT
BEGIN:STANDARD
TZOFFSETFROM:+0200
TZOFFSETTO:+0100
TZNAME:CET
DTSTART:20221030T010000
END:STANDARD
BEGIN:DAYLIGHT
TZOFFSETFROM:+0100
TZOFFSETTO:+0200
TZNAME:CEST
DTSTART:20230326T010000
END:DAYLIGHT
BEGIN:STANDARD
TZOFFSETFROM:+0200
TZOFFSETTO:+0100
TZNAME:CET
DTSTART:20231029T010000
END:STANDARD
BEGIN:DAYLIGHT
TZOFFSETFROM:+0100
TZOFFSETTO:+0200
TZNAME:CEST
DTSTART:20240331T010000
END:DAYLIGHT
BEGIN:STANDARD
TZOFFSETFROM:+0200
TZOFFSETTO:+0100
TZNAME:CET
DTSTART:20241027T010000
END:STANDARD
END:VTIMEZONE
BEGIN:VEVENT
DTSTART;VALUE=DATE:20231012
DTEND;VALUE=DATE:20231016
DTSTAMP:20260421T103249
CREATED:20230114T140853Z
LAST-MODIFIED:20240116T164052Z
UID:3519-1697068800-1697414399@www.foxfire-foundation.org
SUMMARY:CSP® 18th Annual Retreat
DESCRIPTION:The place for our profession and professional work as well as time to refill\nand reconnect as colleagues. Fees: 125\,- \nLate evening arrival 11 October
URL:https://www.foxfire-foundation.org/event/csp-18th-annual-retreat/
LOCATION:Lonvitz\, Lonvitz\, Putbus\, 18581\, Germany
CATEGORIES:Professional
END:VEVENT
END:VCALENDAR